BEGIN:VCALENDAR
VERSION:2.0
PRODID:-//John A. Hutton Elementary School - ECPv6.15.20//NONSGML v1.0//EN
CALSCALE:GREGORIAN
METHOD:PUBLISH
X-WR-CALNAME:John A. Hutton Elementary School
X-ORIGINAL-URL:https://jahes.sd51.bc.ca
X-WR-CALDESC:Events for John A. Hutton Elementary School
REFRESH-INTERVAL;VALUE=DURATION:PT1H
X-Robots-Tag:noindex
X-PUBLISHED-TTL:PT1H
BEGIN:VTIMEZONE
TZID:America/Vancouver
BEGIN:DAYLIGHT
TZOFFSETFROM:-0800
TZOFFSETTO:-0700
TZNAME:PDT
DTSTART:20210314T100000
END:DAYLIGHT
BEGIN:STANDARD
TZOFFSETFROM:-0700
TZOFFSETTO:-0800
TZNAME:PST
DTSTART:20211107T090000
END:STANDARD
BEGIN:DAYLIGHT
TZOFFSETFROM:-0800
TZOFFSETTO:-0700
TZNAME:PDT
DTSTART:20220313T100000
END:DAYLIGHT
BEGIN:STANDARD
TZOFFSETFROM:-0700
TZOFFSETTO:-0800
TZNAME:PST
DTSTART:20221106T090000
END:STANDARD
BEGIN:DAYLIGHT
TZOFFSETFROM:-0800
TZOFFSETTO:-0700
TZNAME:PDT
DTSTART:20230312T100000
END:DAYLIGHT
BEGIN:STANDARD
TZOFFSETFROM:-0700
TZOFFSETTO:-0800
TZNAME:PST
DTSTART:20231105T090000
END:STANDARD
BEGIN:DAYLIGHT
TZOFFSETFROM:-0800
TZOFFSETTO:-0700
TZNAME:PDT
DTSTART:20240310T100000
END:DAYLIGHT
BEGIN:STANDARD
TZOFFSETFROM:-0700
TZOFFSETTO:-0800
TZNAME:PST
DTSTART:20241103T090000
END:STANDARD
END:VTIMEZONE
BEGIN:VEVENT
DTSTART;TZID=America/Vancouver:20230629T080000
DTEND;TZID=America/Vancouver:20230629T170000
DTSTAMP:20260422T154729
CREATED:20230213T184642Z
LAST-MODIFIED:20230213T184642Z
UID:49572-1688025600-1688058000@jahes.sd51.bc.ca
SUMMARY:Last day of school - dismissed at 11:30
DESCRIPTION:
URL:https://jahes.sd51.bc.ca/event/last-day-of-school-dismissed-at-1130/
END:VEVENT
BEGIN:VEVENT
DTSTART;TZID=America/Vancouver:20230621T183000
DTEND;TZID=America/Vancouver:20230621T193000
DTSTAMP:20260422T154729
CREATED:20230112T215544Z
LAST-MODIFIED:20230112T215544Z
UID:49502-1687372200-1687375800@jahes.sd51.bc.ca
SUMMARY:PAC Meeting
DESCRIPTION:PAC meetings are held on Zoom. Confirmed time and a link will be sent out on Facebook prior to the date.
URL:https://jahes.sd51.bc.ca/event/pac-meeting-5/
END:VEVENT
BEGIN:VEVENT
DTSTART;TZID=America/Vancouver:20230605T153000
DTEND;TZID=America/Vancouver:20230605T170000
DTSTAMP:20260422T154729
CREATED:20230510T214820Z
LAST-MODIFIED:20230510T214820Z
UID:49599-1685979000-1685984400@jahes.sd51.bc.ca
SUMMARY:Kindergarten Orientation
DESCRIPTION:Letters will be sent out soon to your home addresses with more details.
URL:https://jahes.sd51.bc.ca/event/kindergarten-orientation/
END:VEVENT
BEGIN:VEVENT
DTSTART;VALUE=DATE:20230526
DTEND;VALUE=DATE:20230527
DTSTAMP:20260422T154729
CREATED:20230210T004339Z
LAST-MODIFIED:20230525T230200Z
UID:49548-1685059200-1685145599@jahes.sd51.bc.ca
SUMMARY:School in Session Primaries are at Pines/Intermediates at District Track Meet
DESCRIPTION:
URL:https://jahes.sd51.bc.ca/event/friday-school-in-session/
END:VEVENT
BEGIN:VEVENT
DTSTART;TZID=America/Vancouver:20230524T183000
DTEND;TZID=America/Vancouver:20230524T193000
DTSTAMP:20260422T154730
CREATED:20230112T215504Z
LAST-MODIFIED:20230112T215504Z
UID:49500-1684953000-1684956600@jahes.sd51.bc.ca
SUMMARY:PAC Meeting
DESCRIPTION:PAC meetings are held on Zoom. Confirmed time and a link will be sent out on Facebook prior to the date.
URL:https://jahes.sd51.bc.ca/event/pac-meeting-4/
END:VEVENT
BEGIN:VEVENT
DTSTART;VALUE=DATE:20230522
DTEND;VALUE=DATE:20230523
DTSTAMP:20260422T154730
CREATED:20230210T004516Z
LAST-MODIFIED:20230210T004516Z
UID:49550-1684713600-1684799999@jahes.sd51.bc.ca
SUMMARY:Victoria Day - No school today
DESCRIPTION:
URL:https://jahes.sd51.bc.ca/event/victoria-day-no-school-today/
END:VEVENT
BEGIN:VEVENT
DTSTART;VALUE=DATE:20230518
DTEND;VALUE=DATE:20230519
DTSTAMP:20260422T154730
CREATED:20230510T214314Z
LAST-MODIFIED:20230510T214314Z
UID:49597-1684368000-1684454399@jahes.sd51.bc.ca
SUMMARY:Hutton's Sports Day
DESCRIPTION:Hutton’s Sports day on May 18 is a go!  Thank you to all the volunteer parents\, gramma’s and sisters that are committing to us for a day!
URL:https://jahes.sd51.bc.ca/event/huttons-sports-day/
END:VEVENT
BEGIN:VEVENT
DTSTART;VALUE=DATE:20230515
DTEND;VALUE=DATE:20230516
DTSTAMP:20260422T154730
CREATED:20230510T174021Z
LAST-MODIFIED:20230510T174021Z
UID:49595-1684108800-1684195199@jahes.sd51.bc.ca
SUMMARY:Class photos
DESCRIPTION:Class photos will be taken today.
URL:https://jahes.sd51.bc.ca/event/class-photos/
END:VEVENT
BEGIN:VEVENT
DTSTART;TZID=America/Vancouver:20230502T143000
DTEND;TZID=America/Vancouver:20230503T170000
DTSTAMP:20260422T154730
CREATED:20230213T184216Z
LAST-MODIFIED:20230213T184216Z
UID:49570-1683037800-1683133200@jahes.sd51.bc.ca
SUMMARY:Early Dismissal - Parent/Teacher Interviews May 2 and May 3
DESCRIPTION:Students dismissed an hour early at 2:05 \nAll schools will be dismissed at 2:30 but Hutton has recess at 2:05 so we dismiss our students at recess time.
URL:https://jahes.sd51.bc.ca/event/early-dismissal-parent-teacher-interviews-may-2-and-may-3/
END:VEVENT
BEGIN:VEVENT
DTSTART;TZID=America/Vancouver:20230419T183000
DTEND;TZID=America/Vancouver:20230419T193000
DTSTAMP:20260422T154730
CREATED:20230112T215315Z
LAST-MODIFIED:20230112T215415Z
UID:49497-1681929000-1681932600@jahes.sd51.bc.ca
SUMMARY:PAC Meeting
DESCRIPTION:PAC meetings are held on Zoom. Confirmed time and a link will be sent out on Facebook prior to the date.
URL:https://jahes.sd51.bc.ca/event/pac-meeting-3/
END:VEVENT
BEGIN:VEVENT
DTSTART;VALUE=DATE:20230414
DTEND;VALUE=DATE:20230415
DTSTAMP:20260422T154730
CREATED:20230213T183906Z
LAST-MODIFIED:20230213T183906Z
UID:49568-1681430400-1681516799@jahes.sd51.bc.ca
SUMMARY:School In session
DESCRIPTION:
URL:https://jahes.sd51.bc.ca/event/school-in-session/
END:VEVENT
BEGIN:VEVENT
DTSTART;VALUE=DATE:20230410
DTEND;VALUE=DATE:20230411
DTSTAMP:20260422T154730
CREATED:20230213T174805Z
LAST-MODIFIED:20230213T174805Z
UID:49566-1681084800-1681171199@jahes.sd51.bc.ca
SUMMARY:Easter Monday - No school
DESCRIPTION:School in session Tuesday – Friday this week.
URL:https://jahes.sd51.bc.ca/event/easter-monday-no-school/
END:VEVENT
BEGIN:VEVENT
DTSTART;VALUE=DATE:20230330
DTEND;VALUE=DATE:20230331
DTSTAMP:20260422T154730
CREATED:20230214T234231Z
LAST-MODIFIED:20230214T234231Z
UID:49578-1680134400-1680220799@jahes.sd51.bc.ca
SUMMARY:Hot Lunch
DESCRIPTION:
URL:https://jahes.sd51.bc.ca/event/hot-lunch-2/
END:VEVENT
BEGIN:VEVENT
DTSTART;TZID=America/Vancouver:20230310T080000
DTEND;TZID=America/Vancouver:20230326T170000
DTSTAMP:20260422T154730
CREATED:20230107T000602Z
LAST-MODIFIED:20230107T000602Z
UID:49483-1678435200-1679850000@jahes.sd51.bc.ca
SUMMARY:Spring Break
DESCRIPTION:
URL:https://jahes.sd51.bc.ca/event/spring-break/
END:VEVENT
BEGIN:VEVENT
DTSTART;VALUE=DATE:20230228
DTEND;VALUE=DATE:20230301
DTSTAMP:20260422T154730
CREATED:20230111T214856Z
LAST-MODIFIED:20230206T222453Z
UID:49491-1677542400-1677628799@jahes.sd51.bc.ca
SUMMARY:Basketball games
DESCRIPTION:Hutton boys Gr 6/7 and girls gr 5\,6\,7 travelling to West Boundary   Girls play first at 1:00
URL:https://jahes.sd51.bc.ca/event/basketball-games-2/
END:VEVENT
BEGIN:VEVENT
DTSTART;VALUE=DATE:20230224
DTEND;VALUE=DATE:20230225
DTSTAMP:20260422T154730
CREATED:20230211T001706Z
LAST-MODIFIED:20230211T001706Z
UID:49563-1677196800-1677283199@jahes.sd51.bc.ca
SUMMARY:Hot dog day!  Preorders only.
DESCRIPTION:
URL:https://jahes.sd51.bc.ca/event/hot-dog-day-preorders-only/
END:VEVENT
BEGIN:VEVENT
DTSTART;VALUE=DATE:20230224
DTEND;VALUE=DATE:20230225
DTSTAMP:20260422T154730
CREATED:20230107T000801Z
LAST-MODIFIED:20230107T000801Z
UID:49486-1677196800-1677283199@jahes.sd51.bc.ca
SUMMARY:School in Session this Friday
DESCRIPTION:
URL:https://jahes.sd51.bc.ca/event/school-in-session-this-friday/
END:VEVENT
BEGIN:VEVENT
DTSTART;TZID=America/Vancouver:20230223T141500
DTEND;TZID=America/Vancouver:20230223T163000
DTSTAMP:20260422T154730
CREATED:20230206T224821Z
LAST-MODIFIED:20230222T035357Z
UID:49540-1677161700-1677169800@jahes.sd51.bc.ca
SUMMARY:Basketball Game
DESCRIPTION:Perley Gr 6/7 boys and girls playing AT Hutton  boys play at 2:40 and 4:00 wtih girls in between at 3:15.
URL:https://jahes.sd51.bc.ca/event/basketball-game-3/
END:VEVENT
BEGIN:VEVENT
DTSTART;VALUE=DATE:20230223
DTEND;VALUE=DATE:20230224
DTSTAMP:20260422T154730
CREATED:20230214T234214Z
LAST-MODIFIED:20230214T234214Z
UID:49576-1677110400-1677196799@jahes.sd51.bc.ca
SUMMARY:Hot lunch
DESCRIPTION:
URL:https://jahes.sd51.bc.ca/event/hot-lunch/
END:VEVENT
BEGIN:VEVENT
DTSTART;TZID=America/Vancouver:20230222T183000
DTEND;TZID=America/Vancouver:20230222T183000
DTSTAMP:20260422T154730
CREATED:20230112T215239Z
LAST-MODIFIED:20230112T215239Z
UID:49495-1677090600-1677090600@jahes.sd51.bc.ca
SUMMARY:PAC Meeting
DESCRIPTION:PAC meetings are held on Zoom. Confirmed time and a link will be sent out on Facebook prior to the appt.
URL:https://jahes.sd51.bc.ca/event/pac-meeting-2/
END:VEVENT
BEGIN:VEVENT
DTSTART;TZID=America/Vancouver:20230222T141500
DTEND;TZID=America/Vancouver:20230222T163000
DTSTAMP:20260422T154730
CREATED:20230206T222955Z
LAST-MODIFIED:20230222T035643Z
UID:49529-1677075300-1677083400@jahes.sd51.bc.ca
SUMMARY:Basketball game  -  Christina Lake at Hutton
DESCRIPTION:Christina Lake Elementary school is visiting Hutton to play games. \nTeam A boys (Broad wings) play at 2:40\ngirls grade 5\,6\,7 play at 3:15- please pick up students at 3:55\nTeam B boys (Harriers) play at 4:00\, pick up at 4:40 \n 
URL:https://jahes.sd51.bc.ca/event/basketball-game/
END:VEVENT
BEGIN:VEVENT
DTSTART;VALUE=DATE:20230220
DTEND;VALUE=DATE:20230221
DTSTAMP:20260422T154730
CREATED:20230107T000526Z
LAST-MODIFIED:20230107T000526Z
UID:49481-1676851200-1676937599@jahes.sd51.bc.ca
SUMMARY:Family Day
DESCRIPTION:Monday\, Feb 20 is Family day.  No school this day.  School is in session Tues-Friday this week.
URL:https://jahes.sd51.bc.ca/event/family-day/
END:VEVENT
BEGIN:VEVENT
DTSTART;VALUE=DATE:20230215
DTEND;VALUE=DATE:20230216
DTSTAMP:20260422T154730
CREATED:20230111T214809Z
LAST-MODIFIED:20230206T222750Z
UID:49489-1676419200-1676505599@jahes.sd51.bc.ca
SUMMARY:Basketball games
DESCRIPTION:Gr 5\,6\,7 girls and Gr 6\,7 boys playing against West Boundary at Hutton.  Games are during school hours in the afternoon.
URL:https://jahes.sd51.bc.ca/event/basketball-games/
END:VEVENT
BEGIN:VEVENT
DTSTART;TZID=America/Vancouver:20230214T120000
DTEND;TZID=America/Vancouver:20230214T130000
DTSTAMP:20260422T154730
CREATED:20230211T001617Z
LAST-MODIFIED:20230211T001617Z
UID:49561-1676376000-1676379600@jahes.sd51.bc.ca
SUMMARY:Gr 7 Bake Sale
DESCRIPTION:Gr 7’s families will be supplying baked goods.  Prices will vary between 50 cents and a couple of dollars
URL:https://jahes.sd51.bc.ca/event/gr-7-bake-sale/
END:VEVENT
BEGIN:VEVENT
DTSTART;TZID=America/Vancouver:20230208T140000
DTEND;TZID=America/Vancouver:20230208T163000
DTSTAMP:20260422T154730
CREATED:20230206T234908Z
LAST-MODIFIED:20230206T234908Z
UID:49542-1675864800-1675873800@jahes.sd51.bc.ca
SUMMARY:Basketball Games
DESCRIPTION:Hutton AT Perley.  Gr 5\,6\,7 Girls play first at 2:15 – Gr 6\,7 Boys play at 3:30 \nBus will transport students to Perley but parents must pick up students at Perley. Girls will be ready for pick up at 3:30 and boys\, 4:30.
URL:https://jahes.sd51.bc.ca/event/basketball-games-3/
END:VEVENT
BEGIN:VEVENT
DTSTART;TZID=America/Vancouver:20230125T183000
DTEND;TZID=America/Vancouver:20230125T183000
DTSTAMP:20260422T154730
CREATED:20230112T215202Z
LAST-MODIFIED:20230112T215202Z
UID:49493-1674671400-1674671400@jahes.sd51.bc.ca
SUMMARY:PAC Meeting
DESCRIPTION:PAC meetings are held on Zoom. Confirmed time and a link will be sent out on Facebook prior to the appt.
URL:https://jahes.sd51.bc.ca/event/pac-meeting/
END:VEVENT
BEGIN:VEVENT
DTSTART;VALUE=DATE:20230124
DTEND;VALUE=DATE:20230125
DTSTAMP:20260422T154730
CREATED:20230107T000410Z
LAST-MODIFIED:20230107T000410Z
UID:49479-1674518400-1674604799@jahes.sd51.bc.ca
SUMMARY:Ski and Board Program
DESCRIPTION:Ms. Foy\, Mr. Smythe and Ms. Farahmand start their ski and board program Monday\, Jan 9. and the two following Mondays\, (Jan 16 & 23)\nMr. R. and Mr. Stewart/Mrs. Cody start Tuesday Jan 10 and the following two Tuesdays (Jan 17 & 24)
URL:https://jahes.sd51.bc.ca/event/ski-and-board-program-6/
END:VEVENT
BEGIN:VEVENT
DTSTART;VALUE=DATE:20230123
DTEND;VALUE=DATE:20230124
DTSTAMP:20260422T154730
CREATED:20230107T000348Z
LAST-MODIFIED:20230107T000348Z
UID:49477-1674432000-1674518399@jahes.sd51.bc.ca
SUMMARY:Ski and Board Program
DESCRIPTION:Ms. Foy\, Mr. Smythe and Ms. Farahmand start their ski and board program Monday\, Jan 9. and the two following Mondays\, (Jan 16 & 23)\nMr. R. and Mr. Stewart/Mrs. Cody start Tuesday Jan 10 and the following two Tuesdays (Jan 17 & 24)
URL:https://jahes.sd51.bc.ca/event/ski-and-board-program-5/
END:VEVENT
BEGIN:VEVENT
DTSTART;VALUE=DATE:20230117
DTEND;VALUE=DATE:20230118
DTSTAMP:20260422T154730
CREATED:20230107T000320Z
LAST-MODIFIED:20230107T000320Z
UID:49475-1673913600-1673999999@jahes.sd51.bc.ca
SUMMARY:Ski and Board Program
DESCRIPTION:Ms. Foy\, Mr. Smythe and Ms. Farahmand start their ski and board program Monday\, Jan 9. and the two following Mondays\, (Jan 16 & 23)\nMr. R. and Mr. Stewart/Mrs. Cody start Tuesday Jan 10 and the following two Tuesdays (Jan 17 & 24)
URL:https://jahes.sd51.bc.ca/event/ski-and-board-program-4/
END:VEVENT
BEGIN:VEVENT
DTSTART;VALUE=DATE:20230116
DTEND;VALUE=DATE:20230117
DTSTAMP:20260422T154730
CREATED:20230106T235257Z
LAST-MODIFIED:20230107T000118Z
UID:49469-1673827200-1673913599@jahes.sd51.bc.ca
SUMMARY:Ski and Board Program
DESCRIPTION:Ms. Foy\, Mr. Smythe and Ms. Farahmand start their ski and board program Monday\, Jan 9. and the two following Mondays\, (Jan 16 & 23)\nMr. R. and Mr. Stewart/Mrs. Cody start Tuesday Jan 10 and the following two Tuesdays (Jan 17 & 24)
URL:https://jahes.sd51.bc.ca/event/ski-and-board-program-3/
END:VEVENT
BEGIN:VEVENT
DTSTART;VALUE=DATE:20230110
DTEND;VALUE=DATE:20230111
DTSTAMP:20260422T154730
CREATED:20230106T235225Z
LAST-MODIFIED:20230107T000057Z
UID:49467-1673308800-1673395199@jahes.sd51.bc.ca
SUMMARY:Ski and Board program
DESCRIPTION:Ms. Foy\, Mr. Smythe and Ms. Farahmand start their ski and board program Monday\, Jan 9. and the two following Mondays\, (Jan 16 & 23)\nMr. R. and Mr. Stewart/Mrs. Cody start Tuesday Jan 10 and the following two Tuesdays (Jan 17 & 24)
URL:https://jahes.sd51.bc.ca/event/ski-and-board-program-2/
END:VEVENT
BEGIN:VEVENT
DTSTART;VALUE=DATE:20230109
DTEND;VALUE=DATE:20230110
DTSTAMP:20260422T154730
CREATED:20230106T235114Z
LAST-MODIFIED:20230106T235114Z
UID:49465-1673222400-1673308799@jahes.sd51.bc.ca
SUMMARY:Ski and Board Program
DESCRIPTION:Ms. Foy\, Mr. Smythe and Ms. Farahmand start their ski and board program Monday\, Jan 9. and the two following Mondays\, (Jan 16 & 23)\nMr. R. and Mr. Stewart/Mrs. Cody start Tuesday Jan 10 and the following two Tuesdays (Jan 17 & 24)
URL:https://jahes.sd51.bc.ca/event/ski-and-board-program/
END:VEVENT
BEGIN:VEVENT
DTSTART;VALUE=DATE:20230103
DTEND;VALUE=DATE:20230104
DTSTAMP:20260422T154730
CREATED:20221129T225030Z
LAST-MODIFIED:20221129T225030Z
UID:49449-1672704000-1672790399@jahes.sd51.bc.ca
SUMMARY:First day back at school!
DESCRIPTION:
URL:https://jahes.sd51.bc.ca/event/first-day-back-at-school/
END:VEVENT
BEGIN:VEVENT
DTSTART;VALUE=DATE:20221215
DTEND;VALUE=DATE:20221216
DTSTAMP:20260422T154730
CREATED:20221129T224923Z
LAST-MODIFIED:20221129T224923Z
UID:49447-1671062400-1671148799@jahes.sd51.bc.ca
SUMMARY:Last day of school before Christmas Break
DESCRIPTION:Happy Holidays everyone!  Season’s greetings for a safe and memorable holiday.  See you January 3\, 2023!
URL:https://jahes.sd51.bc.ca/event/last-day-of-school-before-christmas-break/
END:VEVENT
BEGIN:VEVENT
DTSTART;TZID=America/Vancouver:20221214T104500
DTEND;TZID=America/Vancouver:20221214T114500
DTSTAMP:20260422T154730
CREATED:20221102T173332Z
LAST-MODIFIED:20221109T011552Z
UID:49422-1671014700-1671018300@jahes.sd51.bc.ca
SUMMARY:Hutton Christmas Concert #2
DESCRIPTION:10:45 am
URL:https://jahes.sd51.bc.ca/event/hutton-christmas-concert-2/
END:VEVENT
BEGIN:VEVENT
DTSTART;TZID=America/Vancouver:20221213T130500
DTEND;TZID=America/Vancouver:20221213T140500
DTSTAMP:20260422T154730
CREATED:20221102T173255Z
LAST-MODIFIED:20221109T011429Z
UID:49420-1670936700-1670940300@jahes.sd51.bc.ca
SUMMARY:Hutton Christmas Concert #1
DESCRIPTION:There will not be evening performances at Hutton.  The production will be recorded for those that can’t make it.  1:05 pm
URL:https://jahes.sd51.bc.ca/event/hutton-christmas-concert-1/
END:VEVENT
BEGIN:VEVENT
DTSTART;TZID=America/Vancouver:20221201T080000
DTEND;TZID=America/Vancouver:20221201T170000
DTSTAMP:20260422T154730
CREATED:20221129T223903Z
LAST-MODIFIED:20221129T223959Z
UID:49438-1669881600-1669914000@jahes.sd51.bc.ca
SUMMARY:Volleyball Playday Schedule
DESCRIPTION:vball schedule \nPlease click on the above hyperlink to see the schedule of games for Thursday\, December 1.  Your child will know if they are on team 1 or 2.
URL:https://jahes.sd51.bc.ca/event/volleyball-playday-schedule/
END:VEVENT
BEGIN:VEVENT
DTSTART;TZID=America/Vancouver:20221130T090000
DTEND;TZID=America/Vancouver:20221130T113000
DTSTAMP:20260422T154730
CREATED:20221129T224727Z
LAST-MODIFIED:20221129T224727Z
UID:49445-1669798800-1669807800@jahes.sd51.bc.ca
SUMMARY:School Photo retakes
DESCRIPTION:
URL:https://jahes.sd51.bc.ca/event/school-photo-retakes/
END:VEVENT
BEGIN:VEVENT
DTSTART;TZID=America/Vancouver:20221116T154500
DTEND;TZID=America/Vancouver:20221116T170000
DTSTAMP:20260422T154730
CREATED:20221109T011811Z
LAST-MODIFIED:20221109T011811Z
UID:49434-1668613500-1668618000@jahes.sd51.bc.ca
SUMMARY:Volleyball game at Perley
DESCRIPTION:Pick up your child from Perley @ 5:00
URL:https://jahes.sd51.bc.ca/event/volleyball-game-at-perley/
END:VEVENT
BEGIN:VEVENT
DTSTART;TZID=America/Vancouver:20221109T154500
DTEND;TZID=America/Vancouver:20221109T163000
DTSTAMP:20260422T154730
CREATED:20221109T011721Z
LAST-MODIFIED:20221109T011721Z
UID:49432-1668008700-1668011400@jahes.sd51.bc.ca
SUMMARY:Volleyball game at Hutton
DESCRIPTION:game at Hutton
URL:https://jahes.sd51.bc.ca/event/volleyball-game-at-hutton/
END:VEVENT
BEGIN:VEVENT
DTSTART;TZID=America/Vancouver:20221102T080000
DTEND;TZID=America/Vancouver:20221102T170000
DTSTAMP:20260422T154730
CREATED:20221102T173545Z
LAST-MODIFIED:20221102T173545Z
UID:49424-1667376000-1667408400@jahes.sd51.bc.ca
SUMMARY:Volleyball practises - after school every Wednesday
DESCRIPTION:Practices for volleyball are Monday and Tuesday at lunch and Wednesday afterschool until 4:45.
URL:https://jahes.sd51.bc.ca/event/volleyball-practises-after-school-every-wednesday/
END:VEVENT
BEGIN:VEVENT
DTSTART;TZID=America/Vancouver:20221018T143000
DTEND;TZID=America/Vancouver:20221019T180000
DTSTAMP:20260422T154730
CREATED:20220926T201037Z
LAST-MODIFIED:20220926T201345Z
UID:49387-1666103400-1666202400@jahes.sd51.bc.ca
SUMMARY:Early Dismissal - Parent Teacher Conferences
DESCRIPTION:Classes are dismissed at 2:05 at Hutton (Recess from 2:05 – 2:20) The playground and field areas are supervised during recess even though classes are dismissed and kids are welcome to start heading home at 2:05.
URL:https://jahes.sd51.bc.ca/event/early-dismissal-parent-teacher-conferences/
END:VEVENT
BEGIN:VEVENT
DTSTART;TZID=America/Vancouver:20221004T090000
DTEND;TZID=America/Vancouver:20221004T140000
DTSTAMP:20260422T154730
CREATED:20220926T193200Z
LAST-MODIFIED:20220926T193200Z
UID:49385-1664874000-1664892000@jahes.sd51.bc.ca
SUMMARY:BCSS Soccer playday
DESCRIPTION:Our grade 6/7 soccer players are on their way to BCSS on a school bus to play a few games.   Kids will leave Hutton at 8:50 am and be back in Grand Forks in time for the dismissal bell at 3:20.
URL:https://jahes.sd51.bc.ca/event/bcss-soccer-playday/
END:VEVENT
BEGIN:VEVENT
DTSTART;TZID=America/Vancouver:20220928T170000
DTEND;TZID=America/Vancouver:20220928T183000
DTSTAMP:20260422T154730
CREATED:20220926T190801Z
LAST-MODIFIED:20220926T190801Z
UID:49383-1664384400-1664389800@jahes.sd51.bc.ca
SUMMARY:Family Literacy Night and Spaghetti supper
DESCRIPTION:We are excited for Wednesday night!  Spaghetti will be served between 5-5:30 with things being cleaned up by 5:45.  From there\, families will make their way to our literacy circles planned for around the school. \nIf you have not signed up for a spaghetti portion\, please feel free to still come to the literacy part of the night.
URL:https://jahes.sd51.bc.ca/event/family-literacy-night-and-spaghetti-supper/
END:VEVENT
END:VCALENDAR